BEGIN:VCALENDAR
VERSION:2.0
PRODID:-//NOVAM - ECPv6.15.20//NONSGML v1.0//EN
CALSCALE:GREGORIAN
METHOD:PUBLISH
X-ORIGINAL-URL:https://novam.net
X-WR-CALDESC:Evenementen voor NOVAM
REFRESH-INTERVAL;VALUE=DURATION:PT1H
X-Robots-Tag:noindex
X-PUBLISHED-TTL:PT1H
BEGIN:VTIMEZONE
TZID:Europe/Amsterdam
BEGIN:DAYLIGHT
TZOFFSETFROM:+0100
TZOFFSETTO:+0200
TZNAME:CEST
DTSTART:20200329T010000
END:DAYLIGHT
BEGIN:STANDARD
TZOFFSETFROM:+0200
TZOFFSETTO:+0100
TZNAME:CET
DTSTART:20201025T010000
END:STANDARD
BEGIN:DAYLIGHT
TZOFFSETFROM:+0100
TZOFFSETTO:+0200
TZNAME:CEST
DTSTART:20210328T010000
END:DAYLIGHT
BEGIN:STANDARD
TZOFFSETFROM:+0200
TZOFFSETTO:+0100
TZNAME:CET
DTSTART:20211031T010000
END:STANDARD
BEGIN:DAYLIGHT
TZOFFSETFROM:+0100
TZOFFSETTO:+0200
TZNAME:CEST
DTSTART:20220327T010000
END:DAYLIGHT
BEGIN:STANDARD
TZOFFSETFROM:+0200
TZOFFSETTO:+0100
TZNAME:CET
DTSTART:20221030T010000
END:STANDARD
END:VTIMEZONE
BEGIN:VEVENT
DTSTART;TZID=Europe/Amsterdam:20210731T000000
DTEND;TZID=Europe/Amsterdam:20210801T235959
DTSTAMP:20260424T205052
CREATED:20210624T144343Z
LAST-MODIFIED:20210625T092819Z
UID:10000883-1627689600-1627862399@novam.net
SUMMARY:Summerschool NL 2021 #HYBRIDE
DESCRIPTION:Iedereen zoekt sociaal vertier\, maar tegelijk heerst er twijfel: Komt er een corona variant? Hoe lang werkt het vaccin? Wanneer kunnen we naar ons favoriete vakantiebestemming? \n\n\n\nZeker is dit: \n\n\n\nSummerschool NL is een plek waar iedereen met een muzikaal hart terecht kan op 31 juli [Hybride educatief muzikaal symposium] of 1 augustus [muziekdag op locatie: The Show must go on!] \n\n\n\nHeb je nog twijfels over je gezondheid of zit je net in Frankrijk tijdens die boeiende workshop? Dan is het mogelijk om een uurtje of de hele dag online aan te sluiten. Wie liever de sfeer op locatie ervaart is van harte welkom in Borculo. \n\n\n\n\n\n\n\nSymposium 31 juli\n\n\n\nEen symposium voor ergotherapeuten\, muziekdocenten & leergierige muzikanten. EDUzaal & Boerderijzaal zijn zowel op locatie als online te volgen [m.u.v. home made minimal music] \n\n\n\nDrie thema platforms: \n\n\n\nEduzaal\n\n\n\nEen inhoudelijk programma dat zich richt op de ontwikkeling van een gezonde en doeltreffende werkwijze als musicus \n\n\n\nBoerderijzaal\n\n\n\nEen praktisch muzikaal programma waarbij in iedere workshop van een klein uur één specifiek onderwerp centraal staat. \n\n\n\nDoeTent\n\n\n\nEen energizer van een half uur die ook nog eens een educatieve leerervaring oplevert  \n\n\n\n\n\n\n\nOmwille van de online toegankelijkheid is het symposium op 31 juli sterk educatief ingericht. Hierbij staat in de EDUzaal het thema ‘Gezond musiceren & studeren’ centraal. Marieke Lindenschot [MSc.-OT & PhD kandidaat] is ingehuurd om een muzikaal ergotherapeutische aanpak te doorgronden. Annemarieke van der Ploeg zal de Taxonomie van de muziekstudie en gezond studeren vanuit Flow oppakken. \n\n\n\nTegelijk is er in de Boerderijzaal een variatie aan muzikale diepgang\, van techniek tot minimal music en alles er tussenin. Dit programma wordt vormgegeven door Ellen Zijm\, met ondersteuning van twee stagiaires: Lieke op ’t Roodt & Ilse Kok. Tijd voor een Energizer? Dan is er altijd nog de DoeTent. Korte workshops die inspirerend en activerend zijn en daarnaast een verhelderende opbrengst kennen. \n\n\n\nIeder kan zijn of haar programma bij [online] inschrijving zelf vormgeven. Achteraf toch nog wisselen? Dat kan zo lang er plaats is\, vol = vol. \n\n\n\n\n\n\n\nMuziekdag 1 augustus\n\n\n\nZondag 1 augustus staat er een sociaal gerichte muzikale dag centraal. Een heerlijke play-in. Op het programma van de totale groep staan de werken: The show must go on [Queen] & Air [J.S. Bach]. In de middag gaat de groep uiteen. Ellen werkt met ervaren spelers aan Kunst der Fuge [J.S. Bach] om details\, klankkwaliteit en muzikale diepgang als ensemble te ervaren. Annemarieke\, Lieke of Ilse [afhankelijk van afgenomen individuele lessen] gaan met spelers van alle niveaus aan de slag met wereldmuziek. Muziek uit Oost-Europa\, Argentinië en Ierland staan op het programma. \n\n\n\nEen muziekdag voor accordeonisten die zin hebben om weer een dag gezamenlijk in een ontspannen sfeer ondergedompeld te worden in muzikaal genot\, en heerlijk in de watten gelegd te worden. \n\n\n\n\n\n\n\nBeide dagen zijn bedoeld om een optimale sociaal-muzikaal-educatieve ervaring op te doen en zijn dan ook verzorgd van koffie bij binnenkomst tot maaltijd voor vertrek. Een of twee keer een zorgeloze dag genieten! \n\n\n\n\n\nOrganisator\n\n\n\n\n\nLocatie\n\n\n\n\n\n\n\n\n\n\n\n\n\n\n\n\n\n \nBorculo
URL:https://novam.net/evenement/summerschool-nl-2021-hybride/
LOCATION:Borculo\, Borculo\, Nederland
CATEGORIES:workshop accordeon
ATTACH;FMTTYPE=image/jpeg:https://novam.net/wp-content/uploads/2021/06/ue_summerschoolnl_2021.jpg
ORGANIZER;CN="Stichting Nationaal Projectmatig Accordeononderwijs":MAILTO:info@summerschoolnl.com
GEO:52.1135036;6.5203603
END:VEVENT
END:VCALENDAR