BEGIN:VCALENDAR
VERSION:2.0
PRODID:-//NOVAM - ECPv6.15.20//NONSGML v1.0//EN
CALSCALE:GREGORIAN
METHOD:PUBLISH
X-ORIGINAL-URL:https://novam.net
X-WR-CALDESC:Evenementen voor NOVAM
REFRESH-INTERVAL;VALUE=DURATION:PT1H
X-Robots-Tag:noindex
X-PUBLISHED-TTL:PT1H
BEGIN:VTIMEZONE
TZID:Europe/Amsterdam
BEGIN:DAYLIGHT
TZOFFSETFROM:+0100
TZOFFSETTO:+0200
TZNAME:CEST
DTSTART:20210328T010000
END:DAYLIGHT
BEGIN:STANDARD
TZOFFSETFROM:+0200
TZOFFSETTO:+0100
TZNAME:CET
DTSTART:20211031T010000
END:STANDARD
BEGIN:DAYLIGHT
TZOFFSETFROM:+0100
TZOFFSETTO:+0200
TZNAME:CEST
DTSTART:20220327T010000
END:DAYLIGHT
BEGIN:STANDARD
TZOFFSETFROM:+0200
TZOFFSETTO:+0100
TZNAME:CET
DTSTART:20221030T010000
END:STANDARD
BEGIN:DAYLIGHT
TZOFFSETFROM:+0100
TZOFFSETTO:+0200
TZNAME:CEST
DTSTART:20230326T010000
END:DAYLIGHT
BEGIN:STANDARD
TZOFFSETFROM:+0200
TZOFFSETTO:+0100
TZNAME:CET
DTSTART:20231029T010000
END:STANDARD
END:VTIMEZONE
BEGIN:VEVENT
DTSTART;TZID=Europe/Amsterdam:20221221T193000
DTEND;TZID=Europe/Amsterdam:20221221T210000
DTSTAMP:20260424T142018
CREATED:20221218T204412Z
LAST-MODIFIED:20221218T204519Z
UID:10000982-1671651000-1671656400@novam.net
SUMMARY:Kerstconcert
DESCRIPTION:Accordeonvereniging Con Forza Aalten brengt u een Kerstconcert van Bach tot Band Aid\, van koralen tot traditioneel. Het orkest staat onder leiding van dirigent Wil Plas. \n\n\n\nToegang is gratis\, maar uw vrije gift zal\, in samenwerking met Figulus\, ten goede komen aan de Oekraïense vluchtelingen die in Aalten verblijven. \n\n\n\nZaal open 19:15 uur. \n\n\n\n\n\n\n\n\n\n\n\n\n\nOrganisator\n\n\n\n\n\nLocatie\n\n\n\n\n\n\n\n\n\n\n\n\n\n\nHofnar Aalten
URL:https://novam.net/evenement/kerstconcert/
LOCATION:Hofnar Aalten\, Polstraat 7\, Aaltem\, Gelderland\, 7121 DH\, Nederland
CATEGORIES:concert accordeon
ATTACH;FMTTYPE=image/jpeg:https://novam.net/wp-content/uploads/2022/12/uc_con_forza_aalten_kerstconcert.jpg
ORGANIZER;CN="Accordeonvereniging Con Forza Aalten":MAILTO:info@conforza-aalten.eu
GEO:51.9266396;6.5872687
X-APPLE-STRUCTURED-LOCATION;VALUE=URI;X-ADDRESS=Hofnar Aalten Polstraat 7 Aaltem Gelderland 7121 DH Nederland;X-APPLE-RADIUS=500;X-TITLE=Polstraat 7:geo:6.5872687,51.9266396
END:VEVENT
END:VCALENDAR