BEGIN:VCALENDAR
VERSION:2.0
PRODID:-//NOVAM - ECPv6.15.20//NONSGML v1.0//EN
CALSCALE:GREGORIAN
METHOD:PUBLISH
X-WR-CALNAME:NOVAM
X-ORIGINAL-URL:https://novam.net
X-WR-CALDESC:Evenementen voor NOVAM
REFRESH-INTERVAL;VALUE=DURATION:PT1H
X-Robots-Tag:noindex
X-PUBLISHED-TTL:PT1H
BEGIN:VTIMEZONE
TZID:Europe/Amsterdam
BEGIN:DAYLIGHT
TZOFFSETFROM:+0100
TZOFFSETTO:+0200
TZNAME:CEST
DTSTART:20220327T010000
END:DAYLIGHT
BEGIN:STANDARD
TZOFFSETFROM:+0200
TZOFFSETTO:+0100
TZNAME:CET
DTSTART:20221030T010000
END:STANDARD
BEGIN:DAYLIGHT
TZOFFSETFROM:+0100
TZOFFSETTO:+0200
TZNAME:CEST
DTSTART:20230326T010000
END:DAYLIGHT
BEGIN:STANDARD
TZOFFSETFROM:+0200
TZOFFSETTO:+0100
TZNAME:CET
DTSTART:20231029T010000
END:STANDARD
BEGIN:DAYLIGHT
TZOFFSETFROM:+0100
TZOFFSETTO:+0200
TZNAME:CEST
DTSTART:20240331T010000
END:DAYLIGHT
BEGIN:STANDARD
TZOFFSETFROM:+0200
TZOFFSETTO:+0100
TZNAME:CET
DTSTART:20241027T010000
END:STANDARD
BEGIN:DAYLIGHT
TZOFFSETFROM:+0100
TZOFFSETTO:+0200
TZNAME:CEST
DTSTART:20250330T010000
END:DAYLIGHT
BEGIN:STANDARD
TZOFFSETFROM:+0200
TZOFFSETTO:+0100
TZNAME:CET
DTSTART:20251026T010000
END:STANDARD
END:VTIMEZONE
BEGIN:VEVENT
DTSTART;TZID=Europe/Amsterdam:20240630T140000
DTEND;TZID=Europe/Amsterdam:20240630T160000
DTSTAMP:20260424T163523
CREATED:20240619T181948Z
LAST-MODIFIED:20240619T181948Z
UID:10001077-1719756000-1719763200@novam.net
SUMMARY:Zomerconcert - Accordeonvereniging Animato Soest
DESCRIPTION:Op haar zomerconcert brengt accordeonvereniging Animato Soest een gevarieerd programma. Voor elk wat wils\, van Latin tot klassiek. \n\n\n\nZaal open vanaf 13:30 uur. \n\n\n\n\n\n\n\n\n\n\n\n\n\nOrganisator\n\n\n\n\n\nLocatie\n\n\n\n\n\n\n\n\nOntmoetingscentrum De Klarinet
URL:https://novam.net/evenement/zomerconcert-accordeonvereniging-animato-soest/
LOCATION:Ontmoetingscentrum De Klarinet\, Klarinet 39\, Soest\, Utrecht\, 3766 GH\, Nederland
CATEGORIES:concert accordeon
ATTACH;FMTTYPE=image/jpeg:https://novam.net/wp-content/uploads/2024/06/uc_animato_soest.jpg
ORGANIZER;CN="Animato Soest":MAILTO:animatosoest@gmail.com
GEO:52.1712318;5.2772829
X-APPLE-STRUCTURED-LOCATION;VALUE=URI;X-ADDRESS=Ontmoetingscentrum De Klarinet Klarinet 39 Soest Utrecht 3766 GH Nederland;X-APPLE-RADIUS=500;X-TITLE=Klarinet 39:geo:5.2772829,52.1712318
END:VEVENT
BEGIN:VEVENT
DTSTART;TZID=Europe/Amsterdam:20230402T140000
DTEND;TZID=Europe/Amsterdam:20230402T163000
DTSTAMP:20260424T163523
CREATED:20230312T132925Z
LAST-MODIFIED:20230312T132929Z
UID:10000993-1680444000-1680453000@novam.net
SUMMARY:Jaarconcert met film- en klassieke muziek
DESCRIPTION:Op zondagmiddag 2 april geeft Animato Soest haar jaarconcert met als thema film- en klassieke muziek. \n\n\n\nDe uitvoering begint om 14:00 uur\, zaal open vanaf 13:45 uur. \n\n\n\n\n\n\n\n\n\n\n\n\n\nOrganisator\n\n\n\n\n\nLocatie\n\n\n\n\n\n\n\n\n\n\n\n\n\n\nOntmoetingscentrum De Klarinet
URL:https://novam.net/evenement/jaarconcert-met-film-en-klassieke-muziek/
LOCATION:Ontmoetingscentrum De Klarinet\, Klarinet 39\, Soest\, Utrecht\, 3766 GH\, Nederland
CATEGORIES:concert accordeon
ATTACH;FMTTYPE=image/jpeg:https://novam.net/wp-content/uploads/2023/03/uc_animato_soest_jaarconcert_2023.jpg
ORGANIZER;CN="Animato Soest":MAILTO:animatosoest@gmail.com
GEO:52.1712318;5.2772829
X-APPLE-STRUCTURED-LOCATION;VALUE=URI;X-ADDRESS=Ontmoetingscentrum De Klarinet Klarinet 39 Soest Utrecht 3766 GH Nederland;X-APPLE-RADIUS=500;X-TITLE=Klarinet 39:geo:5.2772829,52.1712318
END:VEVENT
END:VCALENDAR