BEGIN:VCALENDAR
VERSION:2.0
PRODID:-//NOVAM - ECPv6.15.20//NONSGML v1.0//EN
CALSCALE:GREGORIAN
METHOD:PUBLISH
X-ORIGINAL-URL:https://novam.net
X-WR-CALDESC:Evenementen voor NOVAM
REFRESH-INTERVAL;VALUE=DURATION:PT1H
X-Robots-Tag:noindex
X-PUBLISHED-TTL:PT1H
BEGIN:VTIMEZONE
TZID:Europe/Amsterdam
BEGIN:DAYLIGHT
TZOFFSETFROM:+0100
TZOFFSETTO:+0200
TZNAME:CEST
DTSTART:20220327T010000
END:DAYLIGHT
BEGIN:STANDARD
TZOFFSETFROM:+0200
TZOFFSETTO:+0100
TZNAME:CET
DTSTART:20221030T010000
END:STANDARD
BEGIN:DAYLIGHT
TZOFFSETFROM:+0100
TZOFFSETTO:+0200
TZNAME:CEST
DTSTART:20230326T010000
END:DAYLIGHT
BEGIN:STANDARD
TZOFFSETFROM:+0200
TZOFFSETTO:+0100
TZNAME:CET
DTSTART:20231029T010000
END:STANDARD
BEGIN:DAYLIGHT
TZOFFSETFROM:+0100
TZOFFSETTO:+0200
TZNAME:CEST
DTSTART:20240331T010000
END:DAYLIGHT
BEGIN:STANDARD
TZOFFSETFROM:+0200
TZOFFSETTO:+0100
TZNAME:CET
DTSTART:20241027T010000
END:STANDARD
END:VTIMEZONE
BEGIN:VEVENT
DTSTART;TZID=Europe/Amsterdam:20231001T140000
DTEND;TZID=Europe/Amsterdam:20231001T170000
DTSTAMP:20260424T123755
CREATED:20230917T172811Z
LAST-MODIFIED:20230917T172835Z
UID:10001020-1696168800-1696179600@novam.net
SUMMARY:Jubileumconcert Sempre Crescendo 60 jaar
DESCRIPTION:Accordeonvereniging Sempre Crescendo viert haar 60-jarig jubileum samen met drie accordeonverenigingen: AccorDoen Dordrecht\, D.O.V. Maasdijk en Con Amore uit Zundert. Alle orkesten staan onder leiding van dirigent Hubert Janssens. \n\n\n\nZaal open vanaf 13:30 uur. \n\n\n\n\n\n\n\n\n\n\n\n\n\nOrganisator\n\n\n\n\n\nLocatie\n\n\n\n\n\n\n\n\nAccordeonvereniging Sempre Crescendo
URL:https://novam.net/evenement/jubileumconcert-sempre-crescendo-60-jaar/
LOCATION:Gemeenschapshuis De Lanteern\, Dorpsstraat 119\, Sint Willebrord\, Noord-Brabant\, 4711 EG\, Nederland
CATEGORIES:concert accordeon,jubileum
ATTACH;FMTTYPE=image/jpeg:https://novam.net/wp-content/uploads/2023/09/uc_sempre_crescendo_logo.jpg
ORGANIZER;CN="Accordeonvereniging Sempre Crescendo":MAILTO:avsemprecrescendo@hotmail.com
GEO:51.5521046;4.5914049
X-APPLE-STRUCTURED-LOCATION;VALUE=URI;X-ADDRESS=Gemeenschapshuis De Lanteern Dorpsstraat 119 Sint Willebrord Noord-Brabant 4711 EG Nederland;X-APPLE-RADIUS=500;X-TITLE=Dorpsstraat 119:geo:4.5914049,51.5521046
END:VEVENT
END:VCALENDAR