BEGIN:VCALENDAR
VERSION:2.0
PRODID:-//NOVAM - ECPv6.15.20//NONSGML v1.0//EN
CALSCALE:GREGORIAN
METHOD:PUBLISH
X-WR-CALNAME:NOVAM
X-ORIGINAL-URL:https://novam.net
X-WR-CALDESC:Evenementen voor NOVAM
REFRESH-INTERVAL;VALUE=DURATION:PT1H
X-Robots-Tag:noindex
X-PUBLISHED-TTL:PT1H
BEGIN:VTIMEZONE
TZID:Europe/Amsterdam
BEGIN:DAYLIGHT
TZOFFSETFROM:+0100
TZOFFSETTO:+0200
TZNAME:CEST
DTSTART:20200329T010000
END:DAYLIGHT
BEGIN:STANDARD
TZOFFSETFROM:+0200
TZOFFSETTO:+0100
TZNAME:CET
DTSTART:20201025T010000
END:STANDARD
BEGIN:DAYLIGHT
TZOFFSETFROM:+0100
TZOFFSETTO:+0200
TZNAME:CEST
DTSTART:20210328T010000
END:DAYLIGHT
BEGIN:STANDARD
TZOFFSETFROM:+0200
TZOFFSETTO:+0100
TZNAME:CET
DTSTART:20211031T010000
END:STANDARD
BEGIN:DAYLIGHT
TZOFFSETFROM:+0100
TZOFFSETTO:+0200
TZNAME:CEST
DTSTART:20220327T010000
END:DAYLIGHT
BEGIN:STANDARD
TZOFFSETFROM:+0200
TZOFFSETTO:+0100
TZNAME:CET
DTSTART:20221030T010000
END:STANDARD
BEGIN:DAYLIGHT
TZOFFSETFROM:+0100
TZOFFSETTO:+0200
TZNAME:CEST
DTSTART:20230326T010000
END:DAYLIGHT
BEGIN:STANDARD
TZOFFSETFROM:+0200
TZOFFSETTO:+0100
TZNAME:CET
DTSTART:20231029T010000
END:STANDARD
BEGIN:DAYLIGHT
TZOFFSETFROM:+0100
TZOFFSETTO:+0200
TZNAME:CEST
DTSTART:20240331T010000
END:DAYLIGHT
BEGIN:STANDARD
TZOFFSETFROM:+0200
TZOFFSETTO:+0100
TZNAME:CET
DTSTART:20241027T010000
END:STANDARD
BEGIN:DAYLIGHT
TZOFFSETFROM:+0100
TZOFFSETTO:+0200
TZNAME:CEST
DTSTART:20250330T010000
END:DAYLIGHT
BEGIN:STANDARD
TZOFFSETFROM:+0200
TZOFFSETTO:+0100
TZNAME:CET
DTSTART:20251026T010000
END:STANDARD
BEGIN:DAYLIGHT
TZOFFSETFROM:+0100
TZOFFSETTO:+0200
TZNAME:CEST
DTSTART:20260329T010000
END:DAYLIGHT
BEGIN:STANDARD
TZOFFSETFROM:+0200
TZOFFSETTO:+0100
TZNAME:CET
DTSTART:20261025T010000
END:STANDARD
BEGIN:DAYLIGHT
TZOFFSETFROM:+0100
TZOFFSETTO:+0200
TZNAME:CEST
DTSTART:20270328T010000
END:DAYLIGHT
BEGIN:STANDARD
TZOFFSETFROM:+0200
TZOFFSETTO:+0100
TZNAME:CET
DTSTART:20271031T010000
END:STANDARD
END:VTIMEZONE
BEGIN:VEVENT
DTSTART;TZID=Europe/Amsterdam:20260315T133000
DTEND;TZID=Europe/Amsterdam:20260315T170000
DTSTAMP:20260424T111555
CREATED:20251208T184457Z
LAST-MODIFIED:20251208T184457Z
UID:10001171-1773581400-1773594000@novam.net
SUMMARY:Jubileumconcert Insulinde 90 jaar
DESCRIPTION:Volgend jaar viert Amsterdamse Accordeonvereniging Insulinde haar 90-jarig bestaan met een feestelijk concert. Zowel het Ensemble als het Orkest zullen voor u optreden. \n\n\n\nDit concert wordt extra opgeluisterd door de samenwerking met mondharmonicakwartet Fata Morgana\, die u ongetwijfeld nog kent van hun optreden op het jubileum van de NOVAM in 2018. \n\n\n\nKaarten zijn aan de zaal verkrijgbaar. \n\n\n\nZaal open vanaf 13:00 uur. \n\n\n\n\n\n\n\n\n\nOrganisator\n\n\n\n\n\nLocatie\n\n\n\n\n\n\n\n\nAmsterdamse Accordeon Vereniging Insulinde
URL:https://novam.net/evenement/jubileumconcert-insulinde-90-jaar/
LOCATION:Koninklijke Harmonie De Adelaar\, Papelaan 126A\, Weesp\, Noord-Holland\, 1382 RP\, Nederland
CATEGORIES:concert accordeon,jubileum
ATTACH;FMTTYPE=image/jpeg:https://novam.net/wp-content/uploads/2021/10/ue_aav_insulinde_algemeen.jpg
ORGANIZER;CN="Amsterdamse Accordeon Vereniging Insulinde":MAILTO:mart.stralen@live.nl
GEO:52.3164314;5.0326773
X-APPLE-STRUCTURED-LOCATION;VALUE=URI;X-ADDRESS=Koninklijke Harmonie De Adelaar Papelaan 126A Weesp Noord-Holland 1382 RP Nederland;X-APPLE-RADIUS=500;X-TITLE=Papelaan 126A:geo:5.0326773,52.3164314
END:VEVENT
BEGIN:VEVENT
DTSTART;TZID=Europe/Amsterdam:20241116T140000
DTEND;TZID=Europe/Amsterdam:20241116T163000
DTSTAMP:20260424T111555
CREATED:20240929T193242Z
LAST-MODIFIED:20240929T193449Z
UID:10001084-1731765600-1731774600@novam.net
SUMMARY:Jaarconcert Amsterdamse Accordeonvereniging Insulinde
DESCRIPTION:Het orkest en ensemble van Amsterdamse Accordeonvereniging Insulinde geven in samenwerking met gemengd Shantykoor Almere een jaarconcert in Koninklijke Harmonie De Adelaar in Weesp. \n\n\n\nKaarten zijn aan de deur verkrijgbaar. \n\n\n\nZaal open vanaf 13:30 uur. \n\n\n\n\n\n\n\n\n\n\n\n\n\nOrganisator\n\n\n\n\n\nLocatie\n\n\n\n\n\n\n\n\nAmsterdamse Accordeon Vereniging Insulinde
URL:https://novam.net/evenement/jaarconcert-amsterdamse-accordeonvereniging-insulinde-3/
LOCATION:Koninklijke Harmonie De Adelaar\, Papelaan 126A\, Weesp\, Noord-Holland\, 1382 RP\, Nederland
CATEGORIES:concert accordeon
ATTACH;FMTTYPE=image/jpeg:https://novam.net/wp-content/uploads/2021/10/ue_aav_insulinde_algemeen.jpg
ORGANIZER;CN="Amsterdamse Accordeon Vereniging Insulinde":MAILTO:mart.stralen@live.nl
GEO:52.3164314;5.0326773
X-APPLE-STRUCTURED-LOCATION;VALUE=URI;X-ADDRESS=Koninklijke Harmonie De Adelaar Papelaan 126A Weesp Noord-Holland 1382 RP Nederland;X-APPLE-RADIUS=500;X-TITLE=Papelaan 126A:geo:5.0326773,52.3164314
END:VEVENT
BEGIN:VEVENT
DTSTART;TZID=Europe/Amsterdam:20240128T120000
DTEND;TZID=Europe/Amsterdam:20240128T170000
DTSTAMP:20260424T111555
CREATED:20240113T144217Z
LAST-MODIFIED:20240113T144651Z
UID:10001046-1706443200-1706461200@novam.net
SUMMARY:Amsterdams Accordeonfestival 2024
DESCRIPTION:De orkesten van Insulinde\, AE2000\, Musica\, Musicorda en de Concertina’s gaan u een afwisselend muzikaal programma bieden. \n\n\n\nZij verrassen u met een veelvoud van muzikale stijlen\, variërend van meeslepende melodieën tot opzwepende wereldmuziek en eigentijdse composities. \n\n\n\nOf u nu een accordeonliefhebber bent of gewoon nieuwsgierig\, het Amsterdams Accordeonfestival belooft u afwisselende muzikale middag. \n\n\n\nKaarten zijn verkrijgbaar aan de deur; zaal open vanaf 11:30 uur. \n\n\n\n\n\n\n\n\n\n\n\n\n\nOrganisator\n\n\n\n\n\nLocatie\n\n\n\n\n\n\n\n\nAmsterdamse Accordeon Vereniging Insulinde
URL:https://novam.net/evenement/amsterdams-accordeonfestival-2024/
LOCATION:Dorpshuis Het wapen van Landsmeer\, Calkoenstraat 27\, Landsmeer\, Noord-Holland\, 1121 XA\, Nederland
CATEGORIES:concert accordeon,festival
ATTACH;FMTTYPE=image/jpeg:https://novam.net/wp-content/uploads/2024/01/uc_amsterdams_accordeonfestival_2024.jpg
ORGANIZER;CN="Amsterdamse Accordeon Vereniging Insulinde":MAILTO:mart.stralen@live.nl
GEO:52.4297941;4.915612
X-APPLE-STRUCTURED-LOCATION;VALUE=URI;X-ADDRESS=Dorpshuis Het wapen van Landsmeer Calkoenstraat 27 Landsmeer Noord-Holland 1121 XA Nederland;X-APPLE-RADIUS=500;X-TITLE=Calkoenstraat 27:geo:4.915612,52.4297941
END:VEVENT
BEGIN:VEVENT
DTSTART;TZID=Europe/Amsterdam:20231015T140000
DTEND;TZID=Europe/Amsterdam:20231015T170000
DTSTAMP:20260424T111555
CREATED:20231001T133510Z
LAST-MODIFIED:20231001T133756Z
UID:10001022-1697378400-1697389200@novam.net
SUMMARY:Jaarconcert Amsterdamse Accordeonvereniging Insulinde
DESCRIPTION:Op zondagmiddag 15 oktober geeft Amsterdamse Accordeonvereniging Insulinde haar jaarconcert in Weesp. Het Insulinde ensemble en het Insulinde orkest onder leiding van Marja Vrieling zullen optreden. Het gastoptreden wordt verzorgd door accordeoniste Greetje de Oude. \n\n\n\nKaarten zijn verkrijgbaar aan de deur. \n\n\n\nZaal open om 13:30 uur. \n\n\n\n\n\n\n\n\n\n\n\n\n\nOrganisator\n\n\n\n\n\nLocatie\n\n\n\n\n\n\n\n\nAmsterdamse Accordeon Vereniging Insulinde
URL:https://novam.net/evenement/jaarconcert-amsterdamse-accordeonvereniging-insulinde-2/
LOCATION:Koninklijke Harmonie De Adelaar\, Papelaan 126A\, Weesp\, Noord-Holland\, 1382 RP\, Nederland
CATEGORIES:concert accordeon
ATTACH;FMTTYPE=image/jpeg:https://novam.net/wp-content/uploads/2021/10/ue_aav_insulinde_algemeen.jpg
ORGANIZER;CN="Amsterdamse Accordeon Vereniging Insulinde":MAILTO:mart.stralen@live.nl
GEO:52.3164314;5.0326773
X-APPLE-STRUCTURED-LOCATION;VALUE=URI;X-ADDRESS=Koninklijke Harmonie De Adelaar Papelaan 126A Weesp Noord-Holland 1382 RP Nederland;X-APPLE-RADIUS=500;X-TITLE=Papelaan 126A:geo:5.0326773,52.3164314
END:VEVENT
BEGIN:VEVENT
DTSTART;TZID=Europe/Amsterdam:20221022T140000
DTEND;TZID=Europe/Amsterdam:20221022T163000
DTSTAMP:20260424T111555
CREATED:20220928T181111Z
LAST-MODIFIED:20220928T181647Z
UID:10000964-1666447200-1666456200@novam.net
SUMMARY:Jaarconcert Amsterdamse Accordeonvereniging Insulinde
DESCRIPTION:Het Insulinde Ensemble en het Insulinde Orkest onder leiding van Marja Vrieling zullen voor u spelen op hun jaarconcert. \n\n\n\nHet intermezzo wordt verzorgd door Bas Menninga. \n\n\n\n\n\n\n\n\n\n\n\n\n\nOrganisator\n\n\n\n\n\nLocatie\n\n\n\n\n\n\n\n\n\n\n\n\n\n\nAmsterdamse Accordeon Vereniging Insulinde
URL:https://novam.net/evenement/jaarconcert-amsterdamse-accordeonvereniging-insulinde/
LOCATION:Koninklijke Harmonie De Adelaar\, Papelaan 126A\, Weesp\, Noord-Holland\, 1382 RP\, Nederland
CATEGORIES:concert accordeon
ATTACH;FMTTYPE=image/jpeg:https://novam.net/wp-content/uploads/2021/10/ue_aav_insulinde_algemeen.jpg
ORGANIZER;CN="Amsterdamse Accordeon Vereniging Insulinde":MAILTO:mart.stralen@live.nl
GEO:52.3164314;5.0326773
X-APPLE-STRUCTURED-LOCATION;VALUE=URI;X-ADDRESS=Koninklijke Harmonie De Adelaar Papelaan 126A Weesp Noord-Holland 1382 RP Nederland;X-APPLE-RADIUS=500;X-TITLE=Papelaan 126A:geo:5.0326773,52.3164314
END:VEVENT
BEGIN:VEVENT
DTSTART;TZID=Europe/Amsterdam:20211114T143000
DTEND;TZID=Europe/Amsterdam:20211114T170000
DTSTAMP:20260424T111555
CREATED:20211019T142217Z
LAST-MODIFIED:20211112T100436Z
UID:10000906-1636900200-1636909200@novam.net
SUMMARY:Jubileumconcert AAV Insulinde
DESCRIPTION:Door de oplopende besmettingen en de mogelijke extra overheidsmaatregelen ziet het bestuur van Insulinde zich genoodzaakt  het jubileumconcert af te lasten. \n\n\n\n\n\n\n\nOp zondagmiddag 14 november 2021 geeft accordeonvereniging Insulinde haar 85 jarig jubileumconcert in het dorpshuis van Landsmeer. Voor u zullen spelen het Insulinde Ensemble en Insulinde Orkest onder leiding van dirigent Marja Vrieling. \n\n\n\nHet concert begint om 14.30 uur en eindigt om ongeveer 16.00 uur. Daarna is er een borreluur met muziek van Sjaak Wester. \n\n\n\nZaal open vanaf 14.00 uur. Kaarten zijn aan de deur verkrijgbaar. \n\n\n\n\n\n\n\n\n\nOrganisator\n\n\n\n\n\nLocatie\n\n\n\n\n\n\n\n\n\n\n\n\n\n\nAmsterdamse Accordeon Vereniging Insulinde
URL:https://novam.net/evenement/jubileumconcert-aav-insulinde/
LOCATION:Dorpshuis Het wapen van Landsmeer\, Calkoenstraat 27\, Landsmeer\, Noord-Holland\, 1121 XA\, Nederland
CATEGORIES:concert accordeon
ATTACH;FMTTYPE=image/jpeg:https://novam.net/wp-content/uploads/2021/10/ue_aav_insulinde_afgelast.jpg
ORGANIZER;CN="Amsterdamse Accordeon Vereniging Insulinde":MAILTO:mart.stralen@live.nl
GEO:52.4297941;4.915612
X-APPLE-STRUCTURED-LOCATION;VALUE=URI;X-ADDRESS=Dorpshuis Het wapen van Landsmeer Calkoenstraat 27 Landsmeer Noord-Holland 1121 XA Nederland;X-APPLE-RADIUS=500;X-TITLE=Calkoenstraat 27:geo:4.915612,52.4297941
END:VEVENT
END:VCALENDAR