BEGIN:VCALENDAR
VERSION:2.0
PRODID:-//NOVAM - ECPv6.15.20//NONSGML v1.0//EN
CALSCALE:GREGORIAN
METHOD:PUBLISH
X-WR-CALNAME:NOVAM
X-ORIGINAL-URL:https://novam.net
X-WR-CALDESC:Evenementen voor NOVAM
REFRESH-INTERVAL;VALUE=DURATION:PT1H
X-Robots-Tag:noindex
X-PUBLISHED-TTL:PT1H
BEGIN:VTIMEZONE
TZID:Europe/Amsterdam
BEGIN:DAYLIGHT
TZOFFSETFROM:+0100
TZOFFSETTO:+0200
TZNAME:CEST
DTSTART:20190331T010000
END:DAYLIGHT
BEGIN:STANDARD
TZOFFSETFROM:+0200
TZOFFSETTO:+0100
TZNAME:CET
DTSTART:20191027T010000
END:STANDARD
BEGIN:DAYLIGHT
TZOFFSETFROM:+0100
TZOFFSETTO:+0200
TZNAME:CEST
DTSTART:20200329T010000
END:DAYLIGHT
BEGIN:STANDARD
TZOFFSETFROM:+0200
TZOFFSETTO:+0100
TZNAME:CET
DTSTART:20201025T010000
END:STANDARD
BEGIN:DAYLIGHT
TZOFFSETFROM:+0100
TZOFFSETTO:+0200
TZNAME:CEST
DTSTART:20210328T010000
END:DAYLIGHT
BEGIN:STANDARD
TZOFFSETFROM:+0200
TZOFFSETTO:+0100
TZNAME:CET
DTSTART:20211031T010000
END:STANDARD
BEGIN:DAYLIGHT
TZOFFSETFROM:+0100
TZOFFSETTO:+0200
TZNAME:CEST
DTSTART:20220327T010000
END:DAYLIGHT
BEGIN:STANDARD
TZOFFSETFROM:+0200
TZOFFSETTO:+0100
TZNAME:CET
DTSTART:20221030T010000
END:STANDARD
BEGIN:DAYLIGHT
TZOFFSETFROM:+0100
TZOFFSETTO:+0200
TZNAME:CEST
DTSTART:20230326T010000
END:DAYLIGHT
BEGIN:STANDARD
TZOFFSETFROM:+0200
TZOFFSETTO:+0100
TZNAME:CET
DTSTART:20231029T010000
END:STANDARD
BEGIN:DAYLIGHT
TZOFFSETFROM:+0100
TZOFFSETTO:+0200
TZNAME:CEST
DTSTART:20240331T010000
END:DAYLIGHT
BEGIN:STANDARD
TZOFFSETFROM:+0200
TZOFFSETTO:+0100
TZNAME:CET
DTSTART:20241027T010000
END:STANDARD
BEGIN:DAYLIGHT
TZOFFSETFROM:+0100
TZOFFSETTO:+0200
TZNAME:CEST
DTSTART:20250330T010000
END:DAYLIGHT
BEGIN:STANDARD
TZOFFSETFROM:+0200
TZOFFSETTO:+0100
TZNAME:CET
DTSTART:20251026T010000
END:STANDARD
BEGIN:DAYLIGHT
TZOFFSETFROM:+0100
TZOFFSETTO:+0200
TZNAME:CEST
DTSTART:20260329T010000
END:DAYLIGHT
BEGIN:STANDARD
TZOFFSETFROM:+0200
TZOFFSETTO:+0100
TZNAME:CET
DTSTART:20261025T010000
END:STANDARD
END:VTIMEZONE
BEGIN:VEVENT
DTSTART;TZID=Europe/Amsterdam:20250524T110000
DTEND;TZID=Europe/Amsterdam:20250524T140000
DTSTAMP:20260424T153245
CREATED:20250416T183427Z
LAST-MODIFIED:20250506T192355Z
UID:10001140-1748084400-1748095200@novam.net
SUMMARY:Algemene Ledenvergadering 2025 en concert Vincent van Amsterdam
DESCRIPTION:De NOVAM zal op zaterdag 24 mei 2025 haar volgende Algemene Ledenvergadering organiseren in @AllArt\, Korte Noorderweg 22 te Hilversum. \n\n\n\nDe vergadering zal plaatsvinden vanaf 11:00  tot 12:30 uur\, inloop vanaf 10:30 uur. Na de lunchpauze geeft Vincent van Amsterdam een concert. \n\n\n\nWij hopen vele leden weer live te mogen begroeten. \n\n\n\nDeze vergadering is ook online bij te wonen. Hiervoor vragen wij u uw e-mailadres door te geven zodat wij u voor aanvang van de vergadering een link kunnen toesturen. \n\n\n\n\n\n\n\nAanmeldformulier Algemene Ledenvergadering\n\n\nSchakel JavaScript in je browser in om dit formulier in te vullen.Naam *VoornaamTussenvoegselAchternaamLid van vereniging/ensemble *Ik wil de vergadering bijwonen *in persoononlineUw e-mailadres voor het toesturen van de link naar de online vergaderingE-mailE-mailadres bevestigenGDPR *Ik ga akkoord met de verwerking van mijn persoonsgegevens door de NOVAM ten behoeve van mijn aanmelding voor de Algemene Ledenvergadering.Verstuur  \n\n\n\n\n\n\n\n\nOrganisator\n\n\n\n\n\nLocatie\n\n\n\n\n\n\n\n\nNOVAM
URL:https://novam.net/evenement/algemene-ledenvergadering-2025/
LOCATION:@AllArt\, Korte Noorderweg 22\, Hilversum\, Noord-Holland\, 1221 NB\, Nederland
CATEGORIES:overig
ATTACH;FMTTYPE=image/jpeg:https://novam.net/wp-content/uploads/2020/06/ua_statuten_reglementen_bw.jpg
GEO:52.2282708;5.1810769
X-APPLE-STRUCTURED-LOCATION;VALUE=URI;X-ADDRESS=@AllArt Korte Noorderweg 22 Hilversum Noord-Holland 1221 NB Nederland;X-APPLE-RADIUS=500;X-TITLE=Korte Noorderweg 22:geo:5.1810769,52.2282708
END:VEVENT
BEGIN:VEVENT
DTSTART;TZID=Europe/Amsterdam:20240601T103000
DTEND;TZID=Europe/Amsterdam:20240601T143000
DTSTAMP:20260424T153245
CREATED:20240414T124757Z
LAST-MODIFIED:20240414T155104Z
UID:10001063-1717237800-1717252200@novam.net
SUMMARY:Algemene Ledenvergadering 2024
DESCRIPTION:De NOVAM zal op zaterdag 1 juni 2024  haar volgende Algemene Ledenvergadering organiseren in @AllArt\, Korte Noorderweg 22 te Hilversum. \n\n\n\nDe vergadering zal plaatsvinden tussen 10:30 en 14:30 uur\, inloop vanaf 10:30 uur. Wij hopen vele leden weer live te mogen begroeten. \n\n\n\nDeze vergadering is ook online bij te wonen. Hiervoor vragen wij u uw e-mailadres door te geven zodat wij u voor aanvang van de vergadering een link kunnen toesturen. \n\n\n\n\n\n\n\nAanmeldformulier Algemene Ledenvergadering\n\n\nSchakel JavaScript in je browser in om dit formulier in te vullen.Naam *VoornaamTussenvoegselAchternaamLid van vereniging/ensemble *Ik wil de vergadering bijwonen *in persoononlineUw e-mailadres voor het toesturen van de link naar de online vergaderingE-mailE-mailadres bevestigenGDPR *Ik ga akkoord met de verwerking van mijn persoonsgegevens door de NOVAM ten behoeve van mijn aanmelding voor de Algemene Ledenvergadering.Verstuur  \n\n\n\n\n\n\n\n\nOrganisator\n\n\n\n\n\nLocatie\n\n\n\n\n\n\n\n\nNOVAM
URL:https://novam.net/evenement/algemene-ledenvergadering-2024/
LOCATION:@AllArt\, Korte Noorderweg 22\, Hilversum\, Noord-Holland\, 1221 NB\, Nederland
CATEGORIES:overig
ATTACH;FMTTYPE=image/jpeg:https://novam.net/wp-content/uploads/2020/06/ua_statuten_reglementen_bw.jpg
GEO:52.2282708;5.1810769
X-APPLE-STRUCTURED-LOCATION;VALUE=URI;X-ADDRESS=@AllArt Korte Noorderweg 22 Hilversum Noord-Holland 1221 NB Nederland;X-APPLE-RADIUS=500;X-TITLE=Korte Noorderweg 22:geo:5.1810769,52.2282708
END:VEVENT
BEGIN:VEVENT
DTSTART;TZID=Europe/Amsterdam:20240413T110000
DTEND;TZID=Europe/Amsterdam:20240413T150000
DTSTAMP:20260424T153245
CREATED:20230805T155625Z
LAST-MODIFIED:20231001T131728Z
UID:10001018-1713006000-1713020400@novam.net
SUMMARY:NOVAM & ArtEZ Workshop Improvisatie en begeleiden
DESCRIPTION:Het aankomende seizoen staan er weer nieuwe workshops van Rik Cornelissen op de planning\, waarin onderwerpen als improvisatie\, uit het hoofd spelen\, gehoor\, ritmiek\, groove\, akkoorden\, begeleiden\, soleren\, articulatie\, frasering en nog veel meer behandeld zullen worden. Dit wordt gedaan op basis van verschillende muziekstijlen\, zoals tango\, latin en jazz. Allemaal laagdrempelig; ieder op zijn eigen niveau\, met of zonder ervaring in improvisatie. \n\n\n\nBasisvereisten zijn dat je de notennamen kent\, vingerzettingen zelf kunt uitzoeken en vooral een uitdaging vindt in het maken van muziek op basis van gehoor en gevoel in plaats van bladmuziek. \n\n\n\nDe workshops zijn afzonderlijk te volgen of als een serie van vijf tegen een gereduceerd tarief van € 200 (€ 150 voor NOVAM-leden). \n\n\n\n \n\n\n\n\n\n\n\n\n\n\n\n\n\n\n\nOrganisator\n\n\n\n\n\nLocatie\n\n\n\n\n\n\n\n\n\n \n\n\nNOVAM
URL:https://novam.net/evenement/novam-artez-workshop-improvisatie-en-begeleiden/2024-04-13/
LOCATION:ArtEZ conservatorium\, Utrechtsestraat 85\, Arnhem\, Gelderland\, 6811 LW\, Nederland
CATEGORIES:workshop accordeon
ATTACH;FMTTYPE=image/jpeg:https://novam.net/wp-content/uploads/2023/08/ue_workshop_improvisatie_begeleiden_2023-2024.jpg
ORGANIZER;CN="Rik Cornelissen%2C ArtEZ conservatorium Arnhem":MAILTO:info@rikcornelissen.com
GEO:51.9837703;5.8947663
X-APPLE-STRUCTURED-LOCATION;VALUE=URI;X-ADDRESS=ArtEZ conservatorium Utrechtsestraat 85 Arnhem Gelderland 6811 LW Nederland;X-APPLE-RADIUS=500;X-TITLE=Utrechtsestraat 85:geo:5.8947663,51.9837703
END:VEVENT
BEGIN:VEVENT
DTSTART;TZID=Europe/Amsterdam:20240302T110000
DTEND;TZID=Europe/Amsterdam:20240302T150000
DTSTAMP:20260424T153245
CREATED:20230805T155625Z
LAST-MODIFIED:20231001T131728Z
UID:10001017-1709377200-1709391600@novam.net
SUMMARY:NOVAM & ArtEZ Workshop Improvisatie en begeleiden
DESCRIPTION:Het aankomende seizoen staan er weer nieuwe workshops van Rik Cornelissen op de planning\, waarin onderwerpen als improvisatie\, uit het hoofd spelen\, gehoor\, ritmiek\, groove\, akkoorden\, begeleiden\, soleren\, articulatie\, frasering en nog veel meer behandeld zullen worden. Dit wordt gedaan op basis van verschillende muziekstijlen\, zoals tango\, latin en jazz. Allemaal laagdrempelig; ieder op zijn eigen niveau\, met of zonder ervaring in improvisatie. \n\n\n\nBasisvereisten zijn dat je de notennamen kent\, vingerzettingen zelf kunt uitzoeken en vooral een uitdaging vindt in het maken van muziek op basis van gehoor en gevoel in plaats van bladmuziek. \n\n\n\nDe workshops zijn afzonderlijk te volgen of als een serie van vijf tegen een gereduceerd tarief van € 200 (€ 150 voor NOVAM-leden). \n\n\n\n \n\n\n\n\n\n\n\n\n\n\n\n\n\n\n\nOrganisator\n\n\n\n\n\nLocatie\n\n\n\n\n\n\n\n\n\n \n\n\nNOVAM
URL:https://novam.net/evenement/novam-artez-workshop-improvisatie-en-begeleiden/2024-03-02/
LOCATION:ArtEZ conservatorium\, Utrechtsestraat 85\, Arnhem\, Gelderland\, 6811 LW\, Nederland
CATEGORIES:workshop accordeon
ATTACH;FMTTYPE=image/jpeg:https://novam.net/wp-content/uploads/2023/08/ue_workshop_improvisatie_begeleiden_2023-2024.jpg
ORGANIZER;CN="Rik Cornelissen%2C ArtEZ conservatorium Arnhem":MAILTO:info@rikcornelissen.com
GEO:51.9837703;5.8947663
X-APPLE-STRUCTURED-LOCATION;VALUE=URI;X-ADDRESS=ArtEZ conservatorium Utrechtsestraat 85 Arnhem Gelderland 6811 LW Nederland;X-APPLE-RADIUS=500;X-TITLE=Utrechtsestraat 85:geo:5.8947663,51.9837703
END:VEVENT
BEGIN:VEVENT
DTSTART;TZID=Europe/Amsterdam:20240127T110000
DTEND;TZID=Europe/Amsterdam:20240127T150000
DTSTAMP:20260424T153245
CREATED:20230805T155625Z
LAST-MODIFIED:20231001T131728Z
UID:10001016-1706353200-1706367600@novam.net
SUMMARY:NOVAM & ArtEZ Workshop Improvisatie en begeleiden
DESCRIPTION:Het aankomende seizoen staan er weer nieuwe workshops van Rik Cornelissen op de planning\, waarin onderwerpen als improvisatie\, uit het hoofd spelen\, gehoor\, ritmiek\, groove\, akkoorden\, begeleiden\, soleren\, articulatie\, frasering en nog veel meer behandeld zullen worden. Dit wordt gedaan op basis van verschillende muziekstijlen\, zoals tango\, latin en jazz. Allemaal laagdrempelig; ieder op zijn eigen niveau\, met of zonder ervaring in improvisatie. \n\n\n\nBasisvereisten zijn dat je de notennamen kent\, vingerzettingen zelf kunt uitzoeken en vooral een uitdaging vindt in het maken van muziek op basis van gehoor en gevoel in plaats van bladmuziek. \n\n\n\nDe workshops zijn afzonderlijk te volgen of als een serie van vijf tegen een gereduceerd tarief van € 200 (€ 150 voor NOVAM-leden). \n\n\n\n \n\n\n\n\n\n\n\n\n\n\n\n\n\n\n\nOrganisator\n\n\n\n\n\nLocatie\n\n\n\n\n\n\n\n\n\n \n\n\nNOVAM
URL:https://novam.net/evenement/novam-artez-workshop-improvisatie-en-begeleiden/2024-01-27/
LOCATION:ArtEZ conservatorium\, Utrechtsestraat 85\, Arnhem\, Gelderland\, 6811 LW\, Nederland
CATEGORIES:workshop accordeon
ATTACH;FMTTYPE=image/jpeg:https://novam.net/wp-content/uploads/2023/08/ue_workshop_improvisatie_begeleiden_2023-2024.jpg
ORGANIZER;CN="Rik Cornelissen%2C ArtEZ conservatorium Arnhem":MAILTO:info@rikcornelissen.com
GEO:51.9837703;5.8947663
X-APPLE-STRUCTURED-LOCATION;VALUE=URI;X-ADDRESS=ArtEZ conservatorium Utrechtsestraat 85 Arnhem Gelderland 6811 LW Nederland;X-APPLE-RADIUS=500;X-TITLE=Utrechtsestraat 85:geo:5.8947663,51.9837703
END:VEVENT
BEGIN:VEVENT
DTSTART;TZID=Europe/Amsterdam:20231125T110000
DTEND;TZID=Europe/Amsterdam:20231125T150000
DTSTAMP:20260424T153245
CREATED:20230805T155625Z
LAST-MODIFIED:20231001T131728Z
UID:10001015-1700910000-1700924400@novam.net
SUMMARY:NOVAM & ArtEZ Workshop Improvisatie en begeleiden
DESCRIPTION:Het aankomende seizoen staan er weer nieuwe workshops van Rik Cornelissen op de planning\, waarin onderwerpen als improvisatie\, uit het hoofd spelen\, gehoor\, ritmiek\, groove\, akkoorden\, begeleiden\, soleren\, articulatie\, frasering en nog veel meer behandeld zullen worden. Dit wordt gedaan op basis van verschillende muziekstijlen\, zoals tango\, latin en jazz. Allemaal laagdrempelig; ieder op zijn eigen niveau\, met of zonder ervaring in improvisatie. \n\n\n\nBasisvereisten zijn dat je de notennamen kent\, vingerzettingen zelf kunt uitzoeken en vooral een uitdaging vindt in het maken van muziek op basis van gehoor en gevoel in plaats van bladmuziek. \n\n\n\nDe workshops zijn afzonderlijk te volgen of als een serie van vijf tegen een gereduceerd tarief van € 200 (€ 150 voor NOVAM-leden). \n\n\n\n \n\n\n\n\n\n\n\n\n\n\n\n\n\n\n\nOrganisator\n\n\n\n\n\nLocatie\n\n\n\n\n\n\n\n\n\n \n\n\nNOVAM
URL:https://novam.net/evenement/novam-artez-workshop-improvisatie-en-begeleiden/2023-11-25/
LOCATION:ArtEZ conservatorium\, Utrechtsestraat 85\, Arnhem\, Gelderland\, 6811 LW\, Nederland
CATEGORIES:workshop accordeon
ATTACH;FMTTYPE=image/jpeg:https://novam.net/wp-content/uploads/2023/08/ue_workshop_improvisatie_begeleiden_2023-2024.jpg
ORGANIZER;CN="Rik Cornelissen%2C ArtEZ conservatorium Arnhem":MAILTO:info@rikcornelissen.com
GEO:51.9837703;5.8947663
X-APPLE-STRUCTURED-LOCATION;VALUE=URI;X-ADDRESS=ArtEZ conservatorium Utrechtsestraat 85 Arnhem Gelderland 6811 LW Nederland;X-APPLE-RADIUS=500;X-TITLE=Utrechtsestraat 85:geo:5.8947663,51.9837703
END:VEVENT
BEGIN:VEVENT
DTSTART;TZID=Europe/Amsterdam:20231007T110000
DTEND;TZID=Europe/Amsterdam:20231007T150000
DTSTAMP:20260424T153245
CREATED:20230805T155625Z
LAST-MODIFIED:20231001T131728Z
UID:10001014-1696676400-1696690800@novam.net
SUMMARY:NOVAM & ArtEZ Workshop Improvisatie en begeleiden
DESCRIPTION:Het aankomende seizoen staan er weer nieuwe workshops van Rik Cornelissen op de planning\, waarin onderwerpen als improvisatie\, uit het hoofd spelen\, gehoor\, ritmiek\, groove\, akkoorden\, begeleiden\, soleren\, articulatie\, frasering en nog veel meer behandeld zullen worden. Dit wordt gedaan op basis van verschillende muziekstijlen\, zoals tango\, latin en jazz. Allemaal laagdrempelig; ieder op zijn eigen niveau\, met of zonder ervaring in improvisatie. \n\n\n\nBasisvereisten zijn dat je de notennamen kent\, vingerzettingen zelf kunt uitzoeken en vooral een uitdaging vindt in het maken van muziek op basis van gehoor en gevoel in plaats van bladmuziek. \n\n\n\nDe workshops zijn afzonderlijk te volgen of als een serie van vijf tegen een gereduceerd tarief van € 200 (€ 150 voor NOVAM-leden). \n\n\n\n \n\n\n\n\n\n\n\n\n\n\n\n\n\n\n\nOrganisator\n\n\n\n\n\nLocatie\n\n\n\n\n\n\n\n\n\n \n\n\nNOVAM
URL:https://novam.net/evenement/novam-artez-workshop-improvisatie-en-begeleiden/2023-10-07/
LOCATION:ArtEZ conservatorium\, Utrechtsestraat 85\, Arnhem\, Gelderland\, 6811 LW\, Nederland
CATEGORIES:workshop accordeon
ATTACH;FMTTYPE=image/jpeg:https://novam.net/wp-content/uploads/2023/08/ue_workshop_improvisatie_begeleiden_2023-2024.jpg
ORGANIZER;CN="Rik Cornelissen%2C ArtEZ conservatorium Arnhem":MAILTO:info@rikcornelissen.com
GEO:51.9837703;5.8947663
X-APPLE-STRUCTURED-LOCATION;VALUE=URI;X-ADDRESS=ArtEZ conservatorium Utrechtsestraat 85 Arnhem Gelderland 6811 LW Nederland;X-APPLE-RADIUS=500;X-TITLE=Utrechtsestraat 85:geo:5.8947663,51.9837703
END:VEVENT
BEGIN:VEVENT
DTSTART;TZID=Europe/Amsterdam:20230415T110000
DTEND;TZID=Europe/Amsterdam:20230415T130000
DTSTAMP:20260424T153245
CREATED:20230405T090547Z
LAST-MODIFIED:20230405T091024Z
UID:10000995-1681556400-1681563600@novam.net
SUMMARY:Online Algemene Ledenvergadering 2023
DESCRIPTION:Beste leden van de NOVAM\, \n\n\n\nOp zaterdag 15 april 2023 bent u van harte uitgenodigd om de Algemene Ledenvergadering 2023 van de NOVAM bij te wonen. De ledenvergaderingzal dit keer digitaal plaatsvinden via het online platform ZOOM. \n\n\n\nWij verzoeken u zich vooraf digitaal aan te melden voor deze vergadering. Na aanmelding via secretaris@novam.net  ontvangt u enkele dagen voor de ALV een ZOOM link en nog enkele ZOOM vergader-tips. \n\n\n\nAanvang vergadering op 15 april a.s. is 11:00 uur. Inloggen via de link kan vanaf 10:45 uur. \n\n\n\nEventuele vragen die u tijdens de vergadering nog heeft\, kunt u stellen via de chatfunctie. Wij zullen alle vragen bijhouden tijdens de vergadering en deze op het juiste moment inbrengen. \n\n\n\nDe moderator tijdens de vergadering zal u door alle technische snufjes van ZOOM leiden als dat nodig is. \n\n\n\nAan het eind van de vergadering blijft de ZOOM nog 15 minuten open zodat wij ook nog een beetje met elkaar kunnen napraten. \n\n\n\nWij zien uw aanmelding voor de vergadering via secretaris@novam.net graag tegemoet. Wij hopen op een grote online opkomst! \n\n\n\nVriendelijke groeten van het bestuur van de NOVAM \n\n\n\n\n\n\n\n\n\nOrganisator\n\n\n\n\n\nLocatie\n\n\n\n\n\n\n\n\n\n\n\n\n\n\nNOVAM
URL:https://novam.net/evenement/online-algemene-ledenvergadering-2023/
LOCATION:Online
CATEGORIES:overig
ATTACH;FMTTYPE=image/jpeg:https://novam.net/wp-content/uploads/2020/04/ua_statuten_reglementen.jpg
END:VEVENT
BEGIN:VEVENT
DTSTART;TZID=Europe/Amsterdam:20220611T110000
DTEND;TZID=Europe/Amsterdam:20220611T143000
DTSTAMP:20260424T153245
CREATED:20220213T174932Z
LAST-MODIFIED:20220514T174144Z
UID:10000842-1654945200-1654957800@novam.net
SUMMARY:Algemene Ledenvergadering 2022
DESCRIPTION:De NOVAM zal op zaterdag 11 juni 2022  haar volgende Algemene Ledenvergadering organiseren in “De Open Hof”\, Hoflaan 2\, 6715 AJ te Ede. \n\n\n\nDe vergadering zal plaatsvinden tussen 11:00 en 14:30 uur\, inloop vanaf 10:30 uur. Wij hopen vele leden weer live te mogen begroeten. \n\n\n\nAanmelden\n\n\n\nU kunt zich aan te melden via het Aanmeldformulier Algemene Ledenvergadering 11 juni 2022. \n\n\n\n\n\nOrganisator\n\n\n\n\n\nLocatie\n\n\n\n\n\n\n\n\n\n\n\n\n\n\nNOVAM
URL:https://novam.net/evenement/algemene-ledenvergadering-2022/
LOCATION:De Open Hof Ede\, Hoflaan 2\, Ede\, Gelderland\, 6715 AJ\, Nederland
CATEGORIES:overig
ATTACH;FMTTYPE=image/jpeg:https://novam.net/wp-content/uploads/2021/06/ue_alv_2021.jpg
GEO:52.0433324;5.6389446
X-APPLE-STRUCTURED-LOCATION;VALUE=URI;X-ADDRESS=De Open Hof Ede Hoflaan 2 Ede Gelderland 6715 AJ Nederland;X-APPLE-RADIUS=500;X-TITLE=Hoflaan 2:geo:5.6389446,52.0433324
END:VEVENT
BEGIN:VEVENT
DTSTART;TZID=Europe/Amsterdam:20220611T080000
DTEND;TZID=Europe/Amsterdam:20220611T170000
DTSTAMP:20260424T153245
CREATED:20220423T212318Z
LAST-MODIFIED:20220607T060452Z
UID:10000940-1654934400-1654966800@novam.net
SUMMARY:Rik Cornelissen speelt Zucht naar Vrijheid
DESCRIPTION:In opdracht van de NOVAM heeft Rik Cornelissen\, net als Jesse Passenier\, Heather Pinkham en Eddy Flecijn\, twee composities mogen schrijven voor accordeon. Deze zijn onlangs in TivoliVredenburg gepresenteerd en worden binnenkort uitgegeven in twee bundels door de Duitse uitgeverij Jetelina. Op 11 juni\, op de Algemene Ledenvergadering van de NOVAM\, voert Rik de solo-werken uit. \n\n\n\nLees hier meer over deze bundel en het premièreconcert afgelopen 11 maart 2022. \n\n\n\nVoor bijwonen van de ALV dient u zich aan te melden via het aanmeldformulier. \n\n\n\n\n\n\n\n\n\n\n\n\n\nOrganisator\n\n\n\n\n\nLocatie\n\n\n\n\n\n\n\n\n\n\n\n\n\n\nNOVAM
URL:https://novam.net/evenement/rik-cornelissen-speelt-zucht-naar-vrijheid/
LOCATION:De Open Hof Ede\, Hoflaan 2\, Ede\, Gelderland\, 6715 AJ\, Nederland
CATEGORIES:concert accordeon
ATTACH;FMTTYPE=image/jpeg:https://novam.net/wp-content/uploads/2022/03/uab_premiere_zucht_naar_vrijheid_albumcover.jpg
GEO:52.0433324;5.6389446
X-APPLE-STRUCTURED-LOCATION;VALUE=URI;X-ADDRESS=De Open Hof Ede Hoflaan 2 Ede Gelderland 6715 AJ Nederland;X-APPLE-RADIUS=500;X-TITLE=Hoflaan 2:geo:5.6389446,52.0433324
END:VEVENT
BEGIN:VEVENT
DTSTART;TZID=Europe/Amsterdam:20220320T170000
DTEND;TZID=Europe/Amsterdam:20220320T180000
DTSTAMP:20260424T153245
CREATED:20220313T102038Z
LAST-MODIFIED:20220313T102039Z
UID:10000921-1647795600-1647799200@novam.net
SUMMARY:Vincent van Amsterdam speelt 'Zucht naar Vrijheid'
DESCRIPTION:Vincent van Amsterdam zal tijdens het tweede juryberaad\, zo rond 17:30 uur\, een aantal stukken spelen uit de nieuwe bundel “Zucht naar Vrijheid”. De NOVAM heeft zich ten doel gesteld om nieuwe bundels te laten schrijven voor jongeren van twaalf tot vijftien jaar die zo’n vijf – zes jaar les hebben. Er zijn vier componisten gevraagd om ieder twee stukken te schrijven\, één voor accordeons met standaardbas en één voor accordeons met melodiebas. Als overkoepelend thema is gekozen voor de situatie waarin we nog steeds zitten: Zucht naar Vrijheid. We zijn heel benieuwd hoe deze stukken gaan klinken en wie weet speel jij ze volgend jaar zelf! \n\n\n\n\n\n\n\n\n\n\n\n\n\n\n\n\n\nOrganisator\n\n\n\n\n\nLocatie\n\n\n\n\n\n\n\n\n\n\n\n\n\n\nNOVAM
URL:https://novam.net/evenement/vincent-van-amsterdam-speelt-zucht-naar-vrijheid/
LOCATION:Muziek- en Dansschool Amstelveen\, Stadsplein 99\, Amstelveen
CATEGORIES:concert accordeon
ATTACH;FMTTYPE=image/jpeg:https://novam.net/wp-content/uploads/2022/03/uc_ncskm_2022_zucht_naar_vrijheid_presentatie_titel.jpg
GEO:52.3024727;4.859784
X-APPLE-STRUCTURED-LOCATION;VALUE=URI;X-ADDRESS=Muziek- en Dansschool Amstelveen Stadsplein 99 Amstelveen;X-APPLE-RADIUS=500;X-TITLE=Stadsplein 99:geo:4.859784,52.3024727
END:VEVENT
BEGIN:VEVENT
DTSTART;TZID=Europe/Amsterdam:20210918T130000
DTEND;TZID=Europe/Amsterdam:20210918T160000
DTSTAMP:20260424T153245
CREATED:20210617T143616Z
LAST-MODIFIED:20210905T085308Z
UID:10000882-1631970000-1631980800@novam.net
SUMMARY:Algemene Ledenvergadering 2021 op nieuwe locatie in Ede
DESCRIPTION:Het bestuur van de NOVAM heeft voor zaterdag 18 september een ALV gepland. De vergadering zal op een nieuwe locatie plaatsvinden genaamd “De Open Hof”\, Hoflaan 2\, 6715 AJ te Ede. De aanvang van de ALV is 13.00 uur\, wij hopen vele leden weer live te mogen begroeten. \n\n\n\nAanmelden\n\n\n\nIn verband met Corona-maatregelen dient u zich aan te melden via het Aanmeldformulier Algemene Ledenvergadering 18 september 2021. \n\n\n\n\n\n\n\n\n\nOrganisator\n\n\n\n\n\nLocatie\n\n\n\n\n\n\n\n\n\n\n\n\n\n\nNOVAM
URL:https://novam.net/evenement/algemene-ledenvergadering-2021-op-nieuwe-locatie-in-ede/
LOCATION:De Open Hof Ede\, Hoflaan 2\, Ede\, Gelderland\, 6715 AJ\, Nederland
CATEGORIES:overig
ATTACH;FMTTYPE=image/jpeg:https://novam.net/wp-content/uploads/2021/06/ue_alv_2021.jpg
GEO:52.0433324;5.6389446
X-APPLE-STRUCTURED-LOCATION;VALUE=URI;X-ADDRESS=De Open Hof Ede Hoflaan 2 Ede Gelderland 6715 AJ Nederland;X-APPLE-RADIUS=500;X-TITLE=Hoflaan 2:geo:5.6389446,52.0433324
END:VEVENT
BEGIN:VEVENT
DTSTART;TZID=Europe/Amsterdam:20200426T020000
DTEND;TZID=Europe/Amsterdam:20200427T015900
DTSTAMP:20260424T153245
CREATED:20191202T142753Z
LAST-MODIFIED:20200926T171044Z
UID:10000850-1587866400-1587952740@novam.net
SUMMARY:Orkestenfestival 2020
DESCRIPTION:Het vierde orkestenfestival van de NOVAM zal plaatsvinden op 26 april 2020 in het Muziekcentrum van de Omroep\, Heuvellaan 33 te Hilversum. We beschikken daar over 2 mooie akoestische zalen met diverse kleedkamers\, het gebouw heeft verder een uitstekende horecavoorziening! \n\nNOVAM
URL:https://novam.net/evenement/orkestenfestival-2020/
LOCATION:Muziekcentrum van de Omroep\, Heuvellaan 33\, Hilversum\, 1217 JL\, Nederland
CATEGORIES:festival
ATTACH;FMTTYPE=image/jpeg:https://novam.net/wp-content/uploads/2019/06/header_NOVAM-Orkesten-Festival-2019-26-.jpg
GEO:52.2325357;5.1637879
X-APPLE-STRUCTURED-LOCATION;VALUE=URI;X-ADDRESS=Muziekcentrum van de Omroep Heuvellaan 33 Hilversum 1217 JL Nederland;X-APPLE-RADIUS=500;X-TITLE=Heuvellaan 33:geo:5.1637879,52.2325357
END:VEVENT
BEGIN:VEVENT
DTSTART;VALUE=DATE:20200131
DTEND;VALUE=DATE:20200204
DTSTAMP:20260424T153245
CREATED:20191202T134333Z
LAST-MODIFIED:20200703T124248Z
UID:10000849-1580432400-1580691599@novam.net
SUMMARY:Toppershoedje 2020
DESCRIPTION:Op het bungalowpark Toppershoedje hebben we weer een aantal 6-persoons huisjes gehuurd. De dirigenten Ronald van Overbruggen en Niek van Uden gaan weer mooie stukken uitzoeken zodat er fijn met elkaar gemusiceerd kan worden. Het park ligt op het Zuid Hollandse eiland in het dorpje Ouddorp. Naast het samen musiceren is er zeker ook ruimte in het programma om even lekker uit te waaien langs het strand. Daarnaast is het altijd erg gezellig om accordeonisten uit het hele land te ontmoeten. \nDe kostprijs voor NOVAM leden is € 130\,- \, niet leden betalen € 140\,-.  Verder is het handig om een lakenpakket voor € 7\,- af te nemen. \nAlle deelnemers krijgen na het invullen van het inschrijfformulier een rekening van de penningmeester. \nWe hopen weer op een grote\, enthousiaste groep. \nNamens het NOVAM bestuur:\nPetra van Drieënhuizen\npetra@novam.net \nNOVAM
URL:https://novam.net/evenement/toppershoedje-2020/
LOCATION:bungalowpark Toppershoedje\, Strandweg 2-4\, Ouddorp\, Zuid-Holland\, 3253 LR\, Nederland
CATEGORIES:weekend
ATTACH;FMTTYPE=image/jpeg:https://novam.net/wp-content/uploads/2019/06/header_NOVAM-Orkesten-Festival-2019-26-.jpg
GEO:51.8232243;3.9170435
X-APPLE-STRUCTURED-LOCATION;VALUE=URI;X-ADDRESS=bungalowpark Toppershoedje Strandweg 2-4 Ouddorp Zuid-Holland 3253 LR Nederland;X-APPLE-RADIUS=500;X-TITLE=Strandweg 2-4:geo:3.9170435,51.8232243
END:VEVENT
END:VCALENDAR