BEGIN:VCALENDAR
VERSION:2.0
PRODID:-//NOVAM - ECPv6.15.18//NONSGML v1.0//EN
CALSCALE:GREGORIAN
METHOD:PUBLISH
X-WR-CALNAME:NOVAM
X-ORIGINAL-URL:https://novam.net
X-WR-CALDESC:Evenementen voor NOVAM
REFRESH-INTERVAL;VALUE=DURATION:PT1H
X-Robots-Tag:noindex
X-PUBLISHED-TTL:PT1H
BEGIN:VTIMEZONE
TZID:Europe/Amsterdam
BEGIN:DAYLIGHT
TZOFFSETFROM:+0100
TZOFFSETTO:+0200
TZNAME:CEST
DTSTART:20210328T010000
END:DAYLIGHT
BEGIN:STANDARD
TZOFFSETFROM:+0200
TZOFFSETTO:+0100
TZNAME:CET
DTSTART:20211031T010000
END:STANDARD
BEGIN:DAYLIGHT
TZOFFSETFROM:+0100
TZOFFSETTO:+0200
TZNAME:CEST
DTSTART:20220327T010000
END:DAYLIGHT
BEGIN:STANDARD
TZOFFSETFROM:+0200
TZOFFSETTO:+0100
TZNAME:CET
DTSTART:20221030T010000
END:STANDARD
BEGIN:DAYLIGHT
TZOFFSETFROM:+0100
TZOFFSETTO:+0200
TZNAME:CEST
DTSTART:20230326T010000
END:DAYLIGHT
BEGIN:STANDARD
TZOFFSETFROM:+0200
TZOFFSETTO:+0100
TZNAME:CET
DTSTART:20231029T010000
END:STANDARD
BEGIN:DAYLIGHT
TZOFFSETFROM:+0100
TZOFFSETTO:+0200
TZNAME:CEST
DTSTART:20240331T010000
END:DAYLIGHT
BEGIN:STANDARD
TZOFFSETFROM:+0200
TZOFFSETTO:+0100
TZNAME:CET
DTSTART:20241027T010000
END:STANDARD
BEGIN:DAYLIGHT
TZOFFSETFROM:+0100
TZOFFSETTO:+0200
TZNAME:CEST
DTSTART:20250330T010000
END:DAYLIGHT
BEGIN:STANDARD
TZOFFSETFROM:+0200
TZOFFSETTO:+0100
TZNAME:CET
DTSTART:20251026T010000
END:STANDARD
END:VTIMEZONE
BEGIN:VEVENT
DTSTART;TZID=Europe/Amsterdam:20240223T180000
DTEND;TZID=Europe/Amsterdam:20240225T190000
DTSTAMP:20260421T165911
CREATED:20231118T193121Z
LAST-MODIFIED:20240113T203206Z
UID:10001042-1708711200-1708887600@novam.net
SUMMARY:NOVAM Jeugdweekend i.s.m. NJAO
DESCRIPTION:Heb jij zin om samen met andere accordeonisten een heel weekend onder te dompelen in accordeon spelen? Dat kan! \n\n\n\nWant wij organiseren zo’n weekend van vrijdagavond 23 februari t/m zondagmiddag 25 februari 2024 in samenwerking met het NJAO. Het NJAO (Nederlands Jeugd Accordeon Orkest) is een landelijk orkest\, bestaat al 25 jaar en won op diverse festivals al meerdere prijzen. \n\n\n\nTijdens dit jeugdweekend gaan we aan de slag met filmmuziek onder leiding van Jorind Josemans en Christa Groeneveld. Maar we gaan ook muzikale uitstapjes krijgen: Geleijn van der Ham komt langs met een workshop: “even iets anders”. \n\n\n\nOp zondagmiddag sluiten we het weekend af met een korte presentatie voor ouders\, familie en vrienden. Naast het samenspelen is er ook tijd voor ontspanning bijvoorbeeld voor de tafelspellen\, zoals tafelvoetbal en tafeltennis. En het Weerwolvenspel staat ook altijd op het menu. We zorgen ervoor dat het voor iedereen leuk en leerzaam is om erbij te zijn\, van jong tot oud\, van beginner tot gevorderde speler. Dus schroom niet en schrijf je snel in voor dit toffe\, gezellige en leerzame evenement! \n\n\n\nAanmelden kan tot uiterlijk 2 februari 2024. \n\n\n\n\n\n\n\n\n\n\n\n\n\n\n\n\n\n\n\n\n\n\n\nOrganisator\n\n\n\n\n\nLocatie\n\n\n\n\n\n\n\n\nWerkgroep Weekends en Workshops
URL:https://novam.net/evenement/novam-jeugdweekend-i-s-m-njao/
CATEGORIES:weekend
ATTACH;FMTTYPE=image/jpeg:https://novam.net/wp-content/uploads/2023/11/ue_jeugdweekend_2024_v2.jpg
ORGANIZER;CN="Werkgroep Weekends en Workshops":MAILTO:leo@novam.net
END:VEVENT
BEGIN:VEVENT
DTSTART;TZID=Europe/Amsterdam:20220311T080000
DTEND;TZID=Europe/Amsterdam:20220313T170000
DTSTAMP:20260421T165911
CREATED:20211103T141429Z
LAST-MODIFIED:20211220T114304Z
UID:10000837-1646985600-1647190800@novam.net
SUMMARY:Toppershoedje 2022
DESCRIPTION:Toppershoedje 2022 wordt verplaatst!\n\n\n\nDe nieuwe Coronaregels gelden tot 14 januari. Hierdoor is het te onzeker of we het Toppershoedje weekend eind januari veilig kunnen organiseren. Met de dirigenten en het bungalowpark is na overleg besloten dat we het weekend doorschuiven naar vrijdag 11 maart. \n\n\n\nAlle deelnemers die al hadden ingeschreven hoeven geen actie te ondernemen. Mocht je van deelname willen afzien\, meld dat dan bij Petra van Drieënhuizen\, dan wordt het geld teruggestort.  \n\n\n\nDeelnemers kunnen zich aanmelden via het aangepaste inschrijfformulier. Uiteraard volgen we de dan geldende coronaregels zodat we het weekend veilig voor iedereen kunnen organiseren. En wie weet hebben we volgend jaar een heerlijk muzikaal weekend met prachtig voorjaarsweer met strand en zee op loopafstand! \n\n\n\n\n\n\n\nAls NOVAM vinden we het fijn dat we dit weekend weer gaan organiseren. De orkestrepetities van de verenigingen zijn gelukkig al weer een paar maanden geleden opgestart. Het orkestenfestival in Hilversum komt eraan. En vandaar dat we met het bungalowpark Toppershoedje in Ouddorp al een datum hebben vastgelegd voor het muziekweekend. Van vrijdag 11 tot zondag 13 maart 2022 staan diverse bungalows voor ons vast. \n\n\n\nDit keer wordt het orkest door Ronald van Overbruggen en Robert Baas gedirigeerd. Zij nemen diverse stukken mee die dat weekend ingestudeerd zullen worden. Uiteraard zal er veel muziek gemaakt worden en daarnaast wordt er ook ruimte ingelast voor bijvoorbeeld een lekkere strandwandeling. \n\n\n\nDiverse bungalows bij het Toppershoedje hebben het afgelopen jaar een opknapbeurt gehad. Verder zijn de lakenpakketten nu standaard in de prijs meegenomen. Voor leden kost dit weekend € 145\,- \, niet leden betalen € 155\,-. \n\n\n\n\n\nVoor leden die het Toppershoedje weekend nog niet kennen even een toelichting in het kort hoe het programma eruit zal zien: \n\n\n\nOp vrijdagavond ontvangen Cor en Marjon van der Hoek de dirigenten en deelnemers na het diner. Er wordt begonnen met de orkestindeling en de eerste repetitie staat op het programma. De overnachtingen op vrijdag en zaterdag zijn in meer persoons bungalows\, waarvoor van tevoren een indeling wordt gemaakt. Zaterdagochtend is er een gemeenschappelijk ontbijtbuffet waar de koffie en verse jus klaar staan\, net als het lunchbuffet ’s middags en een diner ’s avonds. De dagdelen worden verder grotendeels ingevuld met samen muziek maken. Op zondag is het ontbijt en de lunch ook inbegrepen. We sluiten gezamenlijk af met een presentatie op zondagmiddag\, waarbij publiek van buitenaf van harte welkom is. \n\n\n\nWe hopen weer op veel enthousiaste deelnemers. Uiteraard volgen we de dan geldende Corona regels. \n\n\n\nHartelijke groeten\, Petra van Drieënhuizen \n\n\n\n\n\n\n\n\n\nOrganisator\n\n\n\n\n\nLocatie\n\n\n\n\n\n\n\n\n\n\n\n\n\n\nWerkgroep Weekends en Workshops
URL:https://novam.net/evenement/toppershoedje-2022/
LOCATION:bungalowpark Toppershoedje\, Strandweg 2-4\, Ouddorp\, Zuid-Holland\, 3253 LR\, Nederland
CATEGORIES:weekend
ATTACH;FMTTYPE=image/jpeg:https://novam.net/wp-content/uploads/2021/11/ue_toppershoedje_algemeen.jpg
ORGANIZER;CN="Werkgroep Weekends en Workshops":MAILTO:leo@novam.net
GEO:51.8232243;3.9170435
X-APPLE-STRUCTURED-LOCATION;VALUE=URI;X-ADDRESS=bungalowpark Toppershoedje Strandweg 2-4 Ouddorp Zuid-Holland 3253 LR Nederland;X-APPLE-RADIUS=500;X-TITLE=Strandweg 2-4:geo:3.9170435,51.8232243
END:VEVENT
END:VCALENDAR